BEGIN:VCALENDAR
VERSION:2.0
PRODID:-//Humanities Watch - ECPv6.15.20//NONSGML v1.0//EN
CALSCALE:GREGORIAN
METHOD:PUBLISH
X-WR-CALNAME:Humanities Watch
X-ORIGINAL-URL:https://humanitieswatch.org
X-WR-CALDESC:Events for Humanities Watch
REFRESH-INTERVAL;VALUE=DURATION:PT1H
X-Robots-Tag:noindex
X-PUBLISHED-TTL:PT1H
BEGIN:VTIMEZONE
TZID:America/New_York
BEGIN:DAYLIGHT
TZOFFSETFROM:-0500
TZOFFSETTO:-0400
TZNAME:EDT
DTSTART:20200308T070000
END:DAYLIGHT
BEGIN:STANDARD
TZOFFSETFROM:-0400
TZOFFSETTO:-0500
TZNAME:EST
DTSTART:20201101T060000
END:STANDARD
BEGIN:DAYLIGHT
TZOFFSETFROM:-0500
TZOFFSETTO:-0400
TZNAME:EDT
DTSTART:20210314T070000
END:DAYLIGHT
BEGIN:STANDARD
TZOFFSETFROM:-0400
TZOFFSETTO:-0500
TZNAME:EST
DTSTART:20211107T060000
END:STANDARD
BEGIN:DAYLIGHT
TZOFFSETFROM:-0500
TZOFFSETTO:-0400
TZNAME:EDT
DTSTART:20220313T070000
END:DAYLIGHT
BEGIN:STANDARD
TZOFFSETFROM:-0400
TZOFFSETTO:-0500
TZNAME:EST
DTSTART:20221106T060000
END:STANDARD
END:VTIMEZONE
BEGIN:VTIMEZONE
TZID:America/Halifax
BEGIN:DAYLIGHT
TZOFFSETFROM:-0400
TZOFFSETTO:-0300
TZNAME:ADT
DTSTART:20170312T060000
END:DAYLIGHT
BEGIN:STANDARD
TZOFFSETFROM:-0300
TZOFFSETTO:-0400
TZNAME:AST
DTSTART:20171105T050000
END:STANDARD
BEGIN:DAYLIGHT
TZOFFSETFROM:-0400
TZOFFSETTO:-0300
TZNAME:ADT
DTSTART:20180311T060000
END:DAYLIGHT
BEGIN:STANDARD
TZOFFSETFROM:-0300
TZOFFSETTO:-0400
TZNAME:AST
DTSTART:20181104T050000
END:STANDARD
BEGIN:DAYLIGHT
TZOFFSETFROM:-0400
TZOFFSETTO:-0300
TZNAME:ADT
DTSTART:20190310T060000
END:DAYLIGHT
BEGIN:STANDARD
TZOFFSETFROM:-0300
TZOFFSETTO:-0400
TZNAME:AST
DTSTART:20191103T050000
END:STANDARD
END:VTIMEZONE
BEGIN:VEVENT
DTSTART;TZID=America/New_York:20211210T113000
DTEND;TZID=America/New_York:20211210T123000
DTSTAMP:20260423T222113
CREATED:20211130T143855Z
LAST-MODIFIED:20211130T143855Z
UID:6460-1639135800-1639139400@humanitieswatch.org
SUMMARY:Culture as Care: A Talk on Humanist Letter-Writing (in Italian)
DESCRIPTION:Why did Renaissance humanists write such vivid and detailed personal letters? Why did they collect them for a wider readership? This lecture explores these questions by investigating Renaissance humanitas in a double-sense: as cultura\, a course of learning; and more importantly as cura\, or concern for others. Humanist letters show how humanist friendships deepened their reading of the ancients\, and conversely how their study fostered the emotional intimacy between humanists and their correspondents. Understanding the humanitas of humanist letter-writing provides us with the potential to restore in our lives a greater feeling for wholeness and health. 
URL:https://humanitieswatch.org/event/culture-as-care-a-talk-on-humanist-letter-writing-in-italian/
CATEGORIES:lecture
ATTACH;FMTTYPE=application/pdf:https://humanitieswatch.org/wp-content/uploads/2021/11/Locandina-Nicoletta.pdf
END:VEVENT
BEGIN:VEVENT
DTSTART;TZID=America/Halifax:20180425T123000
DTEND;TZID=America/Halifax:20180425T140000
DTSTAMP:20260423T222113
CREATED:20180417T135303Z
LAST-MODIFIED:20180417T181938Z
UID:3748-1524659400-1524664800@humanitieswatch.org
SUMMARY:Building Knowledge in the Renaissance: Humanist Constructs and Conversations
DESCRIPTION:Building Knowledge in the Renaissance: Humanist Constructs and Conversations. \nThe talk examines how fifteenth- and sixteenth-century humanists explored various pathways to knowledge. To what extent did Renaissance thinkers establish new methods of learning? The talk sheds light on the current debate over the relation between the humanities and the sciences\, showcasing the potential of the humanities at their point of origin in Renaissance Italy.
URL:https://humanitieswatch.org/event/building-knowledge-in-the-renaissance-humanist-constructs-and-conversations/
CATEGORIES:lecture
ATTACH;FMTTYPE=image/jpeg:https://humanitieswatch.org/wp-content/uploads/2018/04/Poster_verticale_finale.jpg
ORGANIZER;CN="Stefano Selenu":MAILTO:sselenu@syr.edu
END:VEVENT
END:VCALENDAR