BEGIN:VCALENDAR
VERSION:2.0
PRODID:-//Humanities Watch - ECPv6.15.20//NONSGML v1.0//EN
CALSCALE:GREGORIAN
METHOD:PUBLISH
X-ORIGINAL-URL:https://humanitieswatch.org
X-WR-CALDESC:Events for Humanities Watch
REFRESH-INTERVAL;VALUE=DURATION:PT1H
X-Robots-Tag:noindex
X-PUBLISHED-TTL:PT1H
BEGIN:VTIMEZONE
TZID:America/New_York
BEGIN:DAYLIGHT
TZOFFSETFROM:-0500
TZOFFSETTO:-0400
TZNAME:EDT
DTSTART:20180311T070000
END:DAYLIGHT
BEGIN:STANDARD
TZOFFSETFROM:-0400
TZOFFSETTO:-0500
TZNAME:EST
DTSTART:20181104T060000
END:STANDARD
BEGIN:DAYLIGHT
TZOFFSETFROM:-0500
TZOFFSETTO:-0400
TZNAME:EDT
DTSTART:20190310T070000
END:DAYLIGHT
BEGIN:STANDARD
TZOFFSETFROM:-0400
TZOFFSETTO:-0500
TZNAME:EST
DTSTART:20191103T060000
END:STANDARD
BEGIN:DAYLIGHT
TZOFFSETFROM:-0500
TZOFFSETTO:-0400
TZNAME:EDT
DTSTART:20200308T070000
END:DAYLIGHT
BEGIN:STANDARD
TZOFFSETFROM:-0400
TZOFFSETTO:-0500
TZNAME:EST
DTSTART:20201101T060000
END:STANDARD
BEGIN:DAYLIGHT
TZOFFSETFROM:-0500
TZOFFSETTO:-0400
TZNAME:EDT
DTSTART:20210314T070000
END:DAYLIGHT
BEGIN:STANDARD
TZOFFSETFROM:-0400
TZOFFSETTO:-0500
TZNAME:EST
DTSTART:20211107T060000
END:STANDARD
BEGIN:DAYLIGHT
TZOFFSETFROM:-0500
TZOFFSETTO:-0400
TZNAME:EDT
DTSTART:20220313T070000
END:DAYLIGHT
BEGIN:STANDARD
TZOFFSETFROM:-0400
TZOFFSETTO:-0500
TZNAME:EST
DTSTART:20221106T060000
END:STANDARD
BEGIN:DAYLIGHT
TZOFFSETFROM:-0500
TZOFFSETTO:-0400
TZNAME:EDT
DTSTART:20230312T070000
END:DAYLIGHT
BEGIN:STANDARD
TZOFFSETFROM:-0400
TZOFFSETTO:-0500
TZNAME:EST
DTSTART:20231105T060000
END:STANDARD
END:VTIMEZONE
BEGIN:VTIMEZONE
TZID:America/Chicago
BEGIN:DAYLIGHT
TZOFFSETFROM:-0600
TZOFFSETTO:-0500
TZNAME:CDT
DTSTART:20190310T080000
END:DAYLIGHT
BEGIN:STANDARD
TZOFFSETFROM:-0500
TZOFFSETTO:-0600
TZNAME:CST
DTSTART:20191103T070000
END:STANDARD
BEGIN:DAYLIGHT
TZOFFSETFROM:-0600
TZOFFSETTO:-0500
TZNAME:CDT
DTSTART:20200308T080000
END:DAYLIGHT
BEGIN:STANDARD
TZOFFSETFROM:-0500
TZOFFSETTO:-0600
TZNAME:CST
DTSTART:20201101T070000
END:STANDARD
BEGIN:DAYLIGHT
TZOFFSETFROM:-0600
TZOFFSETTO:-0500
TZNAME:CDT
DTSTART:20210314T080000
END:DAYLIGHT
BEGIN:STANDARD
TZOFFSETFROM:-0500
TZOFFSETTO:-0600
TZNAME:CST
DTSTART:20211107T070000
END:STANDARD
END:VTIMEZONE
BEGIN:VTIMEZONE
TZID:Europe/London
BEGIN:DAYLIGHT
TZOFFSETFROM:+0000
TZOFFSETTO:+0100
TZNAME:BST
DTSTART:20180325T010000
END:DAYLIGHT
BEGIN:STANDARD
TZOFFSETFROM:+0100
TZOFFSETTO:+0000
TZNAME:GMT
DTSTART:20181028T010000
END:STANDARD
BEGIN:DAYLIGHT
TZOFFSETFROM:+0000
TZOFFSETTO:+0100
TZNAME:BST
DTSTART:20190331T010000
END:DAYLIGHT
BEGIN:STANDARD
TZOFFSETFROM:+0100
TZOFFSETTO:+0000
TZNAME:GMT
DTSTART:20191027T010000
END:STANDARD
BEGIN:DAYLIGHT
TZOFFSETFROM:+0000
TZOFFSETTO:+0100
TZNAME:BST
DTSTART:20200329T010000
END:DAYLIGHT
BEGIN:STANDARD
TZOFFSETFROM:+0100
TZOFFSETTO:+0000
TZNAME:GMT
DTSTART:20201025T010000
END:STANDARD
END:VTIMEZONE
BEGIN:VEVENT
DTSTART;VALUE=DATE:20221110
DTEND;VALUE=DATE:20221120
DTSTAMP:20260423T193649
CREATED:20221006T131322Z
LAST-MODIFIED:20221006T131322Z
UID:6843-1668038400-1668902399@humanitieswatch.org
SUMMARY:Being Human Festival: UK\, November 10-19\, 2022
DESCRIPTION:Being Human Festival is coming! This year’s announcement:  \nEach November\, Being Human festival presents hundreds of free events across the UK and beyond. Festival events aim to celebrate and demonstrate the ways in which the humanities inspire and enrich our everyday lives\, help us to understand ourselves\, our relationships with others\, and the challenges we face in a changing world. Each year the festival invites researchers at universities and other research organisations to collaborate with local community and cultural partners to create exciting and engaging events and projects for all to enjoy. Being Human is a national festival by virtue of being local\, with events taking place everywhere from Dundee to Devon. 
URL:https://humanitieswatch.org/event/being-human-festival-uk-november-10-19-2022/
CATEGORIES:Program
ATTACH;FMTTYPE=image/jpeg:https://humanitieswatch.org/wp-content/uploads/2021/03/being-human-logo-standard-scaled.jpg
END:VEVENT
BEGIN:VEVENT
DTSTART;TZID=America/New_York:20220411T080000
DTEND;TZID=America/New_York:20220414T170000
DTSTAMP:20260423T193649
CREATED:20220220T162917Z
LAST-MODIFIED:20220220T162917Z
UID:6598-1649664000-1649955600@humanitieswatch.org
SUMMARY:A Crisis of Caring (National Humanities Center\, 11-14 April 2022)
DESCRIPTION:A Crisis of Caring: an event on health humanities April 11-14\, 2022. From the announcement:  \nThis virtual\, interdisciplinary conference seeks to consider the ways that knowledge drawn from humanities disciplines and methodologies can inform and help address the ongoing crisis in healthcare…. \nRecognizing that healthcare is predicated on human beings caring for other human beings\, A Crisis of Caring: The Humanities and Our Health will explore how humanistic approaches can help identify the symptoms and causes of our malaise while guiding us toward a healthier\, more caring future. \nAll sessions of the conference will be conducted virtually. \nFor other posts on health humanities\, see here.
URL:https://humanitieswatch.org/event/a-crisis-of-caring-national-humanities-center-11-14-april-2022/
CATEGORIES:Program
ATTACH;FMTTYPE=image/jpeg:https://humanitieswatch.org/wp-content/uploads/2022/02/67french.jpg
END:VEVENT
BEGIN:VEVENT
DTSTART;TZID=America/New_York:20210908T160000
DTEND;TZID=America/New_York:20210908T173000
DTSTAMP:20260423T193649
CREATED:20210823T111153Z
LAST-MODIFIED:20210823T111810Z
UID:6359-1631116800-1631122200@humanitieswatch.org
SUMMARY:Renaissance Humanism\, Democracy\, and the University
DESCRIPTION:How does an engagement with Renaissance Humanism help us understand the contemporary role\, and potential futures\, of the university’s contributions to democratic life? Join us for a conversation between Christopher Celenza\, a scholar of the Renaissance and Dean of the Krieger School of Arts & Sciences at Johns Hopkins\, and Chad Wellmon\, a scholar of knowledge and information and Professor of German and History at UVA. They will discuss the connections between their two new books – Celenza’s The Italian Renaissance and the Origins of the Modern Humanities & Wellmon’s Permanent Crisis: The Humanities in a Disenchanted Age – and how their research shapes their perspectives on the contemporary university. \nThe conversation will be moderated by Jacqueline Allain-Montagne\, a specialist on education and democracy in the ancient world\, who was recently hired in the Classics Department as part of the Democracy Initiative’s faculty hiring initiative.
URL:https://humanitieswatch.org/event/renaissance-humanism-democracy-and-the-university/
CATEGORIES:Program
ATTACH;FMTTYPE=image/jpeg:https://humanitieswatch.org/wp-content/uploads/2021/08/unnamed-e1629717035582.jpg
END:VEVENT
BEGIN:VEVENT
DTSTART;TZID=America/New_York:20210630T090000
DTEND;TZID=America/New_York:20210701T140000
DTSTAMP:20260423T193649
CREATED:20210626T184155Z
LAST-MODIFIED:20210626T184155Z
UID:6282-1625043600-1625148000@humanitieswatch.org
SUMMARY:Contesting Care: 30th June - 1st July
DESCRIPTION:Contesting Care: 30th June -1st July: two days of talks\, films\, workshop discussion and artist presentations responding to the global crisis of care. From the announcement: \nFew topics at present can be more pressing than care. Even before the current pandemic\, a global care crisis had been identified by The International Labour Organization (ILO)\, which indicated that by 2030\, the number of people needing care will reach 2.3 billion…. \nContesting Care is an online event that responds to this situation. It brings together interdisciplinary scholars from Duke University’s Revaluing Care Network (RCN)\, the University of Exeter’s Wellcome Centre for Cultures and Environments of Health\, and other interested academics and artists.  \n 
URL:https://humanitieswatch.org/event/contesting-care-30th-june-1st-july/
CATEGORIES:Program
ATTACH;FMTTYPE=image/jpeg:https://humanitieswatch.org/wp-content/uploads/2021/06/https-cdn.evbuc_.com-images-139381017-551234856245-1-original.20210621-160804.jpeg
END:VEVENT
BEGIN:VEVENT
DTSTART;TZID=America/Chicago:20201211T153000
DTEND;TZID=America/Chicago:20201211T170000
DTSTAMP:20260423T193649
CREATED:20201208T210244Z
LAST-MODIFIED:20201208T210338Z
UID:5985-1607700600-1607706000@humanitieswatch.org
SUMMARY:Moving medical humanities forward: Friday\, December 11\, 3:30 PM CST
DESCRIPTION:Moving medical humanities forward: a discussion on the nature and importance of the medical humanities. From the news release: \nMississippi State University’s Institute for the Humanities is hosting an online final event for this semester\, featuring experts in the medical humanities for a discussion on this interdisciplinary field. \nCourtney Thompson\, assistant professor in MSU’s Department of History\, and Jessica Martucci\, research associate in the Division of Ethics at Columbia University Irving Medical Center\, will provide insight on the discipline that combines humanities\, social sciences and the arts into conversation with biomedicine. The virtual program aims to demonstrate the influence of humanities on medicine in the past and present. \nThe Dec. 11\, 3:30 p.m. CST event on the institute’s Facebook page is open to the public and hosted by Julia Osman\, director of the Institute for the Humanities and an MSU associate professor of history. \nFor other posts on the medical humanities\, see here.
URL:https://humanitieswatch.org/event/moving-medical-humanities-forward-friday-december-11-330-pm-cst/
CATEGORIES:Program
ATTACH;FMTTYPE=image/jpeg:https://humanitieswatch.org/wp-content/uploads/2020/12/MedHumanities_half.jpg
END:VEVENT
BEGIN:VEVENT
DTSTART;TZID=America/Chicago:20201124T150000
DTEND;TZID=America/Chicago:20201124T163000
DTSTAMP:20260423T193649
CREATED:20201122T222249Z
LAST-MODIFIED:20201122T222807Z
UID:5935-1606230000-1606235400@humanitieswatch.org
SUMMARY:Self-knowledge\, art\, and knowledge of patients: November 24\, 3-4:15 PM CST
DESCRIPTION:Self-knowledge\, art\, and knowledge of patients: a virtual event with James Louie\, MD. From the description: \nJoin James Louie\, MD ’65\, Professor Emeritus of Medicine/Rheumatology at UCLA\, for “The Art of Medicine Comes from Knowing Our Patients: Pierre-Auguste Renoir\, Paul Klee\, Ruth Asawa.” Dr. Louie will highlight the life and work of these three artists with a focus on their rheumatic diseases—Pierre-Auguste Renoir with rheumatoid arthritis\, Paul Klee with systemic sclerosis\, and Ruth Asawa with lupus. Some of the artists were able to manage their diseases through the grit of their own determination\, the support of family and friends\, and the best medical advice and therapies available during their lives. Some used their art to express their pain and turmoil\, while others preferred to ignore and transcend their pain through their art. Dr. Louie gives patients hope for coping with their rheumatic diseases by illustrating how famous artists managed.  \nFor other posts on medical humanities\, including art and medicine\, see here. \nh/t Karrie Stewart
URL:https://humanitieswatch.org/event/self-knowledge-art-and-knowledge-of-patients-november-24-3-415-pm-cst/
LOCATION:Virtual\, MO\, United States
CATEGORIES:Program
ATTACH;FMTTYPE=image/jpeg:https://humanitieswatch.org/wp-content/uploads/2020/11/black-knight-19271.jpgHalfHD.jpg
END:VEVENT
BEGIN:VEVENT
DTSTART;TZID=America/New_York:20200918T090000
DTEND;TZID=America/New_York:20200918T120000
DTSTAMP:20260423T193649
CREATED:20200901T163803Z
LAST-MODIFIED:20200902T160106Z
UID:5783-1600419600-1600430400@humanitieswatch.org
SUMMARY:Seeing Differently: Developing Ourselves and Our Team Through Art at the Center to Advance Palliative Care
DESCRIPTION:The Seeing Differently workshop will be taking place at the CAPC later this month via Zoom. The CAPC is a leading organization in the field of palliative care\, and we are honored to work with its dedicated staff. \nSeeing Differently has future workshops planned at Duke University and other venues. Contact us for more information! \nFor a description of Seeing Differently\, see here. \nFor an example of Seeing Differently in action\, see here. \n  \n 
URL:https://humanitieswatch.org/event/see-differently-developing-ourselves-and-our-team-through-art-at-the-center-to-advance-palliative-care/
CATEGORIES:Program
ATTACH;FMTTYPE=image/png:https://humanitieswatch.org/wp-content/uploads/2020/09/CAPCSeeingDifferently.png
ORGANIZER;CN="Humanities Watch":MAILTO:humanitieswatch@humanitieswatch.org
END:VEVENT
BEGIN:VEVENT
DTSTART;TZID=Europe/London:20191114T080000
DTEND;TZID=Europe/London:20191123T170000
DTSTAMP:20260423T193649
CREATED:20191109T100020Z
LAST-MODIFIED:20191109T011653Z
UID:5058-1573718400-1574528400@humanitieswatch.org
SUMMARY:Being Human Festival\, 14-23 November 2019
DESCRIPTION:Being Human Festival: celebrating the UK humanities in various forms\, November 2019. From the announcement: \nThe humanities help us understand what it means to be human. We think that new ideas in this area – from archaeology\, art history\, philosophy\, languages\, literature\, history\, classics\, cultural studies\, music\, theatre and theology – should be open to everyone. \nBeing Human is the UK’s only national festival of the humanities. A celebration of humanities research through public engagement\, it is led by the School of Advanced Study at the University of London\, the UK’s national centre for the pursuit\, support and promotion of research in the humanities\, in partnership with the Arts and Humanities Research Council and the British Academy. \nHeld in November each year\, the nationwide festival brings together universities\, museums\, galleries\, libraries\, community and commercial partners to stage stimulating and engaging activities that make research accessible and relevant\, strengthen community identity\, and increase understanding of the relevance of the humanities to everyday life. \nEvery year we support researchers in the humanities – from art history and classics\, literature and languages\, history and philosophy – to produce non-traditional events and activities with a strong emphasis on co-production and mutual benefit.
URL:https://humanitieswatch.org/event/being-human-festival-14-23-november-2019/
LOCATION:United Kingdom\, United Kingdom
CATEGORIES:Exhibit,Program
ATTACH;FMTTYPE=image/jpeg:https://humanitieswatch.org/wp-content/uploads/2019/11/being_human_logo335.jpg
END:VEVENT
BEGIN:VEVENT
DTSTART;TZID=America/New_York:20190605T080000
DTEND;TZID=America/New_York:20190608T170000
DTSTAMP:20260423T193649
CREATED:20190420T140602Z
LAST-MODIFIED:20190420T140602Z
UID:4683-1559721600-1560013200@humanitieswatch.org
SUMMARY:Georgetown Certificate Program in Public Humanities\, 5-8 June\, 2019
DESCRIPTION:Georgetown University Graduate Certificate Program in Public and Engaged Humanities. From the website: \nThis summer\, take your education in the humanities to the next level. Deepen your understanding of the value of advanced humanities training\, learn how to communicate these values to the public and potential employers\, and explore job markets interested in employing humanities scholars in positions requiring advanced skills in language\, research\, analysis\, critical thinking\, and writing. \nh/t Rob Townsend (@rbthisted)
URL:https://humanitieswatch.org/event/georgetown-certificate-program-in-public-humanities-5-8-june-2019/
LOCATION:Georgetown University\, Washington\, DC
CATEGORIES:Program
ATTACH;FMTTYPE=image/jpeg:https://humanitieswatch.org/wp-content/uploads/2019/04/2019_certificate_flyer_final.jpg
END:VEVENT
END:VCALENDAR